BEGIN:VCALENDAR
VERSION:2.0
PRODID:-//Tek.si - ECPv6.3.1//NONSGML v1.0//EN
CALSCALE:GREGORIAN
METHOD:PUBLISH
X-ORIGINAL-URL:https://tek.si
X-WR-CALDESC:Events for Tek.si
REFRESH-INTERVAL;VALUE=DURATION:PT1H
X-Robots-Tag:noindex
X-PUBLISHED-TTL:PT1H
BEGIN:VTIMEZONE
TZID:Europe/Ljubljana
BEGIN:DAYLIGHT
TZOFFSETFROM:+0100
TZOFFSETTO:+0200
TZNAME:CEST
DTSTART:20240331T010000
END:DAYLIGHT
BEGIN:STANDARD
TZOFFSETFROM:+0200
TZOFFSETTO:+0100
TZNAME:CET
DTSTART:20241027T010000
END:STANDARD
END:VTIMEZONE
BEGIN:VEVENT
DTSTART;VALUE=DATE:20240715
DTEND;VALUE=DATE:20240801
DTSTAMP:20260421T154709
CREATED:20240130T172553Z
LAST-MODIFIED:20240310T154733Z
UID:6037-1721001600-1722470399@tek.si
SUMMARY:Aktivni odmor
DESCRIPTION:Združevanje skupin\, vadeči prejmejo program vadbe\, trener poskrbi za uvodno ogrevanje in izvede osnovni trening. Vadeči lahko po ogrevanju opravijo trening po navodilih ali sodelujejo na skupnem treningu
URL:https://tek.si/dogodek/aktivni-odmor/
CATEGORIES:Aktivni odmor
END:VEVENT
END:VCALENDAR