BEGIN:VCALENDAR
VERSION:2.0
PRODID:-//Tek.si - ECPv6.3.1//NONSGML v1.0//EN
CALSCALE:GREGORIAN
METHOD:PUBLISH
X-WR-CALNAME:Tek.si
X-ORIGINAL-URL:https://tek.si
X-WR-CALDESC:Events for Tek.si
REFRESH-INTERVAL;VALUE=DURATION:PT1H
X-Robots-Tag:noindex
X-PUBLISHED-TTL:PT1H
BEGIN:VTIMEZONE
TZID:Europe/Ljubljana
BEGIN:DAYLIGHT
TZOFFSETFROM:+0100
TZOFFSETTO:+0200
TZNAME:CEST
DTSTART:20240331T010000
END:DAYLIGHT
BEGIN:STANDARD
TZOFFSETFROM:+0200
TZOFFSETTO:+0100
TZNAME:CET
DTSTART:20241027T010000
END:STANDARD
END:VTIMEZONE
BEGIN:VEVENT
DTSTART;VALUE=DATE:20240531
DTEND;VALUE=DATE:20240603
DTSTAMP:20260421T211742
CREATED:20240130T175455Z
LAST-MODIFIED:20240310T154710Z
UID:6078-1717113600-1717372799@tek.si
SUMMARY:Cortina Dobiacco RUN
DESCRIPTION:skupinska prijava\, prevoz\, nočitev
URL:https://tek.si/dogodek/cortina-dobiacco-run/
END:VEVENT
BEGIN:VEVENT
DTSTART;VALUE=DATE:20240608
DTEND;VALUE=DATE:20240609
DTSTAMP:20260421T211742
CREATED:20240130T180334Z
LAST-MODIFIED:20240310T154717Z
UID:6081-1717804800-1717891199@tek.si
SUMMARY:Aktivno sobotno dopoldne
DESCRIPTION:
URL:https://tek.si/dogodek/aktivno-sobotno-dopoldne-2/
CATEGORIES:Aktivna sobota
END:VEVENT
BEGIN:VEVENT
DTSTART;VALUE=DATE:20240614
DTEND;VALUE=DATE:20240616
DTSTAMP:20260421T211742
CREATED:20240130T180421Z
LAST-MODIFIED:20240310T154722Z
UID:6083-1718323200-1718495999@tek.si
SUMMARY:Slovanov atletski miting
DESCRIPTION:
URL:https://tek.si/dogodek/slovanov-atletski-miting/
CATEGORIES:Aktivni vikend
END:VEVENT
BEGIN:VEVENT
DTSTART;VALUE=DATE:20240625
DTEND;VALUE=DATE:20240626
DTSTAMP:20260421T211742
CREATED:20240130T173237Z
LAST-MODIFIED:20240310T154727Z
UID:6047-1719273600-1719359999@tek.si
SUMMARY:Prosti dan
DESCRIPTION:
URL:https://tek.si/dogodek/prosti-dan-5/
CATEGORIES:Prosti dan
END:VEVENT
END:VCALENDAR